BEGIN:VCALENDAR
VERSION:2.0
PRODID:-//AliveAdvisor Events - ECPv6.15.20//NONSGML v1.0//EN
CALSCALE:GREGORIAN
METHOD:PUBLISH
X-WR-CALNAME:AliveAdvisor Events
X-ORIGINAL-URL:https://aliveadvisorevents.com
X-WR-CALDESC:Events for AliveAdvisor Events
REFRESH-INTERVAL;VALUE=DURATION:PT1H
X-Robots-Tag:noindex
X-PUBLISHED-TTL:PT1H
BEGIN:VTIMEZONE
TZID:America/New_York
BEGIN:DAYLIGHT
TZOFFSETFROM:-0500
TZOFFSETTO:-0400
TZNAME:EDT
DTSTART:20220313T070000
END:DAYLIGHT
BEGIN:STANDARD
TZOFFSETFROM:-0400
TZOFFSETTO:-0500
TZNAME:EST
DTSTART:20221106T060000
END:STANDARD
BEGIN:DAYLIGHT
TZOFFSETFROM:-0500
TZOFFSETTO:-0400
TZNAME:EDT
DTSTART:20230312T070000
END:DAYLIGHT
BEGIN:STANDARD
TZOFFSETFROM:-0400
TZOFFSETTO:-0500
TZNAME:EST
DTSTART:20231105T060000
END:STANDARD
BEGIN:DAYLIGHT
TZOFFSETFROM:-0500
TZOFFSETTO:-0400
TZNAME:EDT
DTSTART:20240310T070000
END:DAYLIGHT
BEGIN:STANDARD
TZOFFSETFROM:-0400
TZOFFSETTO:-0500
TZNAME:EST
DTSTART:20241103T060000
END:STANDARD
END:VTIMEZONE
BEGIN:VEVENT
DTSTART;VALUE=DATE:20230618
DTEND;VALUE=DATE:20230619
DTSTAMP:20260424T123628
CREATED:20230618T095409Z
LAST-MODIFIED:20230701T043612Z
UID:1664-1687046400-1687132799@aliveadvisorevents.com
SUMMARY:The past is the future - Imp 2024
DESCRIPTION:Check Daniel Imperato’s ResumeIndependent America (written in 2008) – Free EbookShop for our ProductsPolitical Mafia and Judicial Tyranny – Free EbookFollow Daniel on Social Media\n\n\n\nContribute Now\n\n\n     \nContribute $10\n\n\n\n      \nContribute $20\n\n\n\n      \nContribute $30\n\n\n\n      \nContribute $40\n\n\n\n      \nContribute $50\n\n\n\n      \nOr\, Contribute Another Amount
URL:https://aliveadvisorevents.com/event/the-past-is-the-future-imp-2024/
LOCATION:Online\, Online
CATEGORIES:Political
ORGANIZER;CN="AliveAdvisor":MAILTO:info@aliveadvisor.com
END:VEVENT
BEGIN:VEVENT
DTSTART;VALUE=DATE:20230617
DTEND;VALUE=DATE:20230618
DTSTAMP:20260424T123628
CREATED:20230617T172052Z
LAST-MODIFIED:20230701T043805Z
UID:1662-1686960000-1687046399@aliveadvisorevents.com
SUMMARY:United we stand divided we fall The Uniter – Daniel Imperato 2024
DESCRIPTION:Check Daniel Imperato’s ResumeIndependent America (written in 2008) – Free EbookShop for our ProductsPolitical Mafia and Judicial Tyranny – Free EbookFollow Daniel on Social Media\n\n\n\nContribute Now\n\n\n     \nContribute $10\n\n\n\n      \nContribute $20\n\n\n\n      \nContribute $30\n\n\n\n      \nContribute $40\n\n\n\n      \nContribute $50\n\n\n\n      \nOr\, Contribute Another Amount
URL:https://aliveadvisorevents.com/event/united-we-stand-divided-we-fall-the-uniter-daniel-imperato-2024/
LOCATION:Online\, Online
CATEGORIES:Political
ORGANIZER;CN="AliveAdvisor":MAILTO:info@aliveadvisor.com
END:VEVENT
BEGIN:VEVENT
DTSTART;VALUE=DATE:20230617
DTEND;VALUE=DATE:20230618
DTSTAMP:20260424T123628
CREATED:20230617T121448Z
LAST-MODIFIED:20230627T121427Z
UID:1660-1686960000-1687046399@aliveadvisorevents.com
SUMMARY:Imp 2008 and Imp 2024 – The past is proof
DESCRIPTION:Check Daniel Imperato’s ResumeIndependent America (written in 2008) – Free EbookShop for our ProductsPolitical Mafia and Judicial Tyranny – Free EbookFollow Daniel on Social Media\n\n\nContribute Now\n\n\n     \nContribute $10\n\n\n\n      \nContribute $20\n\n\n\n      \nContribute $30\n\n\n\n      \nContribute $40\n\n\n\n      \nContribute $50\n\n\n\n      \nOr\, Contribute Another Amount
URL:https://aliveadvisorevents.com/event/imp-2008-and-imp-2024-the-past-is-proof/
LOCATION:Online\, Online
CATEGORIES:Political
END:VEVENT
BEGIN:VEVENT
DTSTART;VALUE=DATE:20230617
DTEND;VALUE=DATE:20230618
DTSTAMP:20260424T123628
CREATED:20230617T100824Z
LAST-MODIFIED:20230627T121504Z
UID:1658-1686960000-1687046399@aliveadvisorevents.com
SUMMARY:History repeats itself and nothing has changed
DESCRIPTION:Check Daniel Imperato’s ResumeIndependent America (written in 2008) – Free EbookShop for our ProductsPolitical Mafia and Judicial Tyranny – Free EbookFollow Daniel on Social Media\n\n\nContribute Now\n\n\n     \nContribute $10\n\n\n\n      \nContribute $20\n\n\n\n      \nContribute $30\n\n\n\n      \nContribute $40\n\n\n\n      \nContribute $50\n\n\n\n      \nOr\, Contribute Another Amount
URL:https://aliveadvisorevents.com/event/history-repeats-itself-and-nothing-has-changed/
LOCATION:Online\, Online
CATEGORIES:Political
END:VEVENT
BEGIN:VEVENT
DTSTART;VALUE=DATE:20230616
DTEND;VALUE=DATE:20230617
DTSTAMP:20260424T123628
CREATED:20230616T123335Z
LAST-MODIFIED:20230627T121529Z
UID:1656-1686873600-1686959999@aliveadvisorevents.com
SUMMARY:Daniel Imperato 2024 Live from Fisa Court
DESCRIPTION:Check Daniel Imperato’s ResumeIndependent America (written in 2008) – Free EbookShop for our ProductsPolitical Mafia and Judicial Tyranny – Free EbookFollow Daniel on Social Media\n\n\nContribute Now\n\n\n     \nContribute $10\n\n\n\n      \nContribute $20\n\n\n\n      \nContribute $30\n\n\n\n      \nContribute $40\n\n\n\n      \nContribute $50\n\n\n\n      \nOr\, Contribute Another Amount
URL:https://aliveadvisorevents.com/event/daniel-imperato-2024-live-from-fisa-court/
LOCATION:Online\, Online
CATEGORIES:Political
END:VEVENT
BEGIN:VEVENT
DTSTART;VALUE=DATE:20230612
DTEND;VALUE=DATE:20230613
DTSTAMP:20260424T123628
CREATED:20230612T055107Z
LAST-MODIFIED:20230627T121605Z
UID:1579-1686528000-1686614399@aliveadvisorevents.com
SUMMARY:Daniel Imperato 2024 Live from 11th Circuit Court\, West Palm Beach\, FL
DESCRIPTION:Check Daniel Imperato’s ResumeIndependent America (written in 2008) – Free EbookShop for our ProductsPolitical Mafia and Judicial Tyranny – Free EbookFollow Daniel on Social Media\n\n\nContribute Now\n\n\n     \nContribute $10\n\n\n\n      \nContribute $20\n\n\n\n      \nContribute $30\n\n\n\n      \nContribute $40\n\n\n\n      \nContribute $50\n\n\n\n      \nOr\, Contribute Another Amount
URL:https://aliveadvisorevents.com/event/daniel-imperato-2024-live-from-11th-circuit-court-west-palm-beach-fl/
LOCATION:Online\, Online
CATEGORIES:Political
END:VEVENT
BEGIN:VEVENT
DTSTART;VALUE=DATE:20230609
DTEND;VALUE=DATE:20230610
DTSTAMP:20260424T123628
CREATED:20230609T065331Z
LAST-MODIFIED:20230627T121630Z
UID:1642-1686268800-1686355199@aliveadvisorevents.com
SUMMARY:Daniel Imperato 2024 on Trump Indictment
DESCRIPTION:Check Daniel Imperato’s ResumeIndependent America (written in 2008) – Free EbookShop for our ProductsPolitical Mafia and Judicial Tyranny – Free EbookFollow Daniel on Social Media\n\n\nContribute Now\n\n\n     \nContribute $10\n\n\n\n      \nContribute $20\n\n\n\n      \nContribute $30\n\n\n\n      \nContribute $40\n\n\n\n      \nContribute $50\n\n\n\n      \nOr\, Contribute Another Amount
URL:https://aliveadvisorevents.com/event/daniel-imperato-2024-on-trump-indictment/
LOCATION:Online\, Online
CATEGORIES:Political
END:VEVENT
BEGIN:VEVENT
DTSTART;VALUE=DATE:20230608
DTEND;VALUE=DATE:20230609
DTSTAMP:20260424T123628
CREATED:20230608T114622Z
LAST-MODIFIED:20230627T121704Z
UID:1576-1686182400-1686268799@aliveadvisorevents.com
SUMMARY:Daniel Imperato 2024 Live from Poinciana\, Palm Beach\, FL
DESCRIPTION:Check Daniel Imperato’s ResumeIndependent America (written in 2008) – Free EbookShop for our ProductsPolitical Mafia and Judicial Tyranny – Free EbookFollow Daniel on Social Media\n\n\nContribute Now\n\n\n     \nContribute $10\n\n\n\n      \nContribute $20\n\n\n\n      \nContribute $30\n\n\n\n      \nContribute $40\n\n\n\n      \nContribute $50\n\n\n\n      \nOr\, Contribute Another Amount
URL:https://aliveadvisorevents.com/event/daniel-imperato-2024-live-from-poinciana-palm-beach-fl/
LOCATION:Online\, Online
CATEGORIES:Political
END:VEVENT
BEGIN:VEVENT
DTSTART;VALUE=DATE:20230606
DTEND;VALUE=DATE:20230607
DTSTAMP:20260424T123628
CREATED:20230606T090432Z
LAST-MODIFIED:20230627T121922Z
UID:1534-1686009600-1686095999@aliveadvisorevents.com
SUMMARY:Daniel Imperato 2024 Live from Flagler Museum\, Palm Beach\, FL
DESCRIPTION:Check Daniel Imperato’s ResumeIndependent America (written in 2008) – Free EbookShop for our ProductsPolitical Mafia and Judicial Tyranny – Free EbookFollow Daniel on Social Media\n\n\nContribute Now\n\n\n     \nContribute $10\n\n\n\n      \nContribute $20\n\n\n\n      \nContribute $30\n\n\n\n      \nContribute $40\n\n\n\n      \nContribute $50\n\n\n\n      \nOr\, Contribute Another Amount
URL:https://aliveadvisorevents.com/event/daniel-imperato-2024-speaks-about-political-parties-and-systems/
LOCATION:Online\, Online
CATEGORIES:Political
END:VEVENT
BEGIN:VEVENT
DTSTART;VALUE=DATE:20230530
DTEND;VALUE=DATE:20230531
DTSTAMP:20260424T123628
CREATED:20230530T133950Z
LAST-MODIFIED:20230627T121938Z
UID:1528-1685404800-1685491199@aliveadvisorevents.com
SUMMARY:Daniel Imperato 2024 Live from Ocala\, Florida
DESCRIPTION:Check Daniel Imperato’s ResumeIndependent America (written in 2008) – Free EbookShop for our ProductsPolitical Mafia and Judicial Tyranny – Free EbookFollow Daniel on Social Media\n\n\nContribute Now\n\n\n     \nContribute $10\n\n\n\n      \nContribute $20\n\n\n\n      \nContribute $30\n\n\n\n      \nContribute $40\n\n\n\n      \nContribute $50\n\n\n\n      \nOr\, Contribute Another Amount
URL:https://aliveadvisorevents.com/event/daniel-imperato-2024-live-from-ocala-florida/
LOCATION:Online\, Online
CATEGORIES:Political
END:VEVENT
BEGIN:VEVENT
DTSTART;VALUE=DATE:20230528
DTEND;VALUE=DATE:20230529
DTSTAMP:20260424T123628
CREATED:20230528T133733Z
LAST-MODIFIED:20230627T121955Z
UID:1526-1685232000-1685318399@aliveadvisorevents.com
SUMMARY:Daniel Imperato 2024 Live from Chattanooga\, Tennessee
DESCRIPTION:Check Daniel Imperato’s ResumeIndependent America (written in 2008) – Free EbookShop for our ProductsPolitical Mafia and Judicial Tyranny – Free EbookFollow Daniel on Social Media\n\n\nContribute Now\n\n\n     \nContribute $10\n\n\n\n      \nContribute $20\n\n\n\n      \nContribute $30\n\n\n\n      \nContribute $40\n\n\n\n      \nContribute $50\n\n\n\n      \nOr\, Contribute Another Amount
URL:https://aliveadvisorevents.com/event/daniel-imperato-2024-live-from-chattanooga-tennessee/
LOCATION:Online\, Online
CATEGORIES:Political
END:VEVENT
BEGIN:VEVENT
DTSTART;VALUE=DATE:20230528
DTEND;VALUE=DATE:20230529
DTSTAMP:20260424T123628
CREATED:20230528T133552Z
LAST-MODIFIED:20230627T122111Z
UID:1524-1685232000-1685318399@aliveadvisorevents.com
SUMMARY:Daniel Imperato 2024 Live from Knoxville\, Tennessee
DESCRIPTION:Check Daniel Imperato’s ResumeIndependent America (written in 2008) – Free EbookShop for our ProductsPolitical Mafia and Judicial Tyranny – Free EbookFollow Daniel on Social Media\n\n\nContribute Now\n\n\n     \nContribute $10\n\n\n\n      \nContribute $20\n\n\n\n      \nContribute $30\n\n\n\n      \nContribute $40\n\n\n\n      \nContribute $50\n\n\n\n      \nOr\, Contribute Another Amount
URL:https://aliveadvisorevents.com/event/daniel-imperato-2024-live-from-knoxville-tennessee/
LOCATION:Online\, Online
CATEGORIES:Political
END:VEVENT
BEGIN:VEVENT
DTSTART;VALUE=DATE:20230528
DTEND;VALUE=DATE:20230529
DTSTAMP:20260424T123628
CREATED:20230528T132806Z
LAST-MODIFIED:20230627T122132Z
UID:1522-1685232000-1685318399@aliveadvisorevents.com
SUMMARY:Daniel Imperato 2024 Live from Lexington\, Kentucky
DESCRIPTION:Check Daniel Imperato’s ResumeIndependent America (written in 2008) – Free EbookShop for our ProductsPolitical Mafia and Judicial Tyranny – Free EbookFollow Daniel on Social Media\n\n\nContribute Now\n\n\n     \nContribute $10\n\n\n\n      \nContribute $20\n\n\n\n      \nContribute $30\n\n\n\n      \nContribute $40\n\n\n\n      \nContribute $50\n\n\n\n      \nOr\, Contribute Another Amount
URL:https://aliveadvisorevents.com/event/daniel-imperato-2024-live-from-lexington-kentucky/
LOCATION:Online\, Online
CATEGORIES:Political
END:VEVENT
BEGIN:VEVENT
DTSTART;VALUE=DATE:20230528
DTEND;VALUE=DATE:20230529
DTSTAMP:20260424T123628
CREATED:20230528T132412Z
LAST-MODIFIED:20230627T122148Z
UID:1520-1685232000-1685318399@aliveadvisorevents.com
SUMMARY:Daniel Imperato 2024 - Constitution Constipation
DESCRIPTION:Check Daniel Imperato’s ResumeIndependent America (written in 2008) – Free EbookShop for our ProductsPolitical Mafia and Judicial Tyranny – Free EbookFollow Daniel on Social Media\n\n\nContribute Now\n\n\n     \nContribute $10\n\n\n\n      \nContribute $20\n\n\n\n      \nContribute $30\n\n\n\n      \nContribute $40\n\n\n\n      \nContribute $50\n\n\n\n      \nOr\, Contribute Another Amount
URL:https://aliveadvisorevents.com/event/daniel-imperato-2024-constitution-constipation/
LOCATION:Online\, Online
CATEGORIES:Political
END:VEVENT
BEGIN:VEVENT
DTSTART;VALUE=DATE:20230528
DTEND;VALUE=DATE:20230529
DTSTAMP:20260424T123628
CREATED:20230528T132051Z
LAST-MODIFIED:20230627T122202Z
UID:1518-1685232000-1685318399@aliveadvisorevents.com
SUMMARY:Daniel Imperato 2024 Live from Louisville\, Kentucky
DESCRIPTION:Check Daniel Imperato’s ResumeIndependent America (written in 2008) – Free EbookShop for our ProductsPolitical Mafia and Judicial Tyranny – Free EbookFollow Daniel on Social Media\n\n\nContribute Now\n\n\n     \nContribute $10\n\n\n\n      \nContribute $20\n\n\n\n      \nContribute $30\n\n\n\n      \nContribute $40\n\n\n\n      \nContribute $50\n\n\n\n      \nOr\, Contribute Another Amount
URL:https://aliveadvisorevents.com/event/daniel-imperato-2024-live-from-louisville-kentucky/
LOCATION:Online\, Online
CATEGORIES:Political
END:VEVENT
BEGIN:VEVENT
DTSTART;VALUE=DATE:20230528
DTEND;VALUE=DATE:20230529
DTSTAMP:20260424T123628
CREATED:20230528T131906Z
LAST-MODIFIED:20230627T122241Z
UID:1516-1685232000-1685318399@aliveadvisorevents.com
SUMMARY:Daniel Imperato 2024 Live from the Burlington\, Vermont
DESCRIPTION:Check Daniel Imperato’s ResumeIndependent America (written in 2008) – Free EbookShop for our ProductsPolitical Mafia and Judicial Tyranny – Free EbookFollow Daniel on Social Media\n\n\nContribute Now\n\n\n     \nContribute $10\n\n\n\n      \nContribute $20\n\n\n\n      \nContribute $30\n\n\n\n      \nContribute $40\n\n\n\n      \nContribute $50\n\n\n\n      \nOr\, Contribute Another Amount
URL:https://aliveadvisorevents.com/event/daniel-imperato-2024-live-from-the-burlington-vermont/
LOCATION:Online\, Online
CATEGORIES:Political
END:VEVENT
BEGIN:VEVENT
DTSTART;VALUE=DATE:20230527
DTEND;VALUE=DATE:20230528
DTSTAMP:20260424T123628
CREATED:20230527T131543Z
LAST-MODIFIED:20230627T122257Z
UID:1514-1685145600-1685231999@aliveadvisorevents.com
SUMMARY:Daniel Imperato 2024 Live from Frankfort\, Kentucky
DESCRIPTION:Check Daniel Imperato’s ResumeIndependent America (written in 2008) – Free EbookShop for our ProductsPolitical Mafia and Judicial Tyranny – Free EbookFollow Daniel on Social Media\n\n\nContribute Now\n\n\n     \nContribute $10\n\n\n\n      \nContribute $20\n\n\n\n      \nContribute $30\n\n\n\n      \nContribute $40\n\n\n\n      \nContribute $50\n\n\n\n      \nOr\, Contribute Another Amount
URL:https://aliveadvisorevents.com/event/daniel-imperato-2024-live-from-frankfort-kentucky/
LOCATION:Online\, Online
CATEGORIES:Political
END:VEVENT
BEGIN:VEVENT
DTSTART;VALUE=DATE:20230527
DTEND;VALUE=DATE:20230528
DTSTAMP:20260424T123628
CREATED:20230527T130935Z
LAST-MODIFIED:20230627T122311Z
UID:1512-1685145600-1685231999@aliveadvisorevents.com
SUMMARY:Daniel Imperato 2024 Live from Birmingham\, Alabama
DESCRIPTION:Check Daniel Imperato’s ResumeIndependent America (written in 2008) – Free EbookShop for our ProductsPolitical Mafia and Judicial Tyranny – Free EbookFollow Daniel on Social Media\n\n\nContribute Now\n\n\n     \nContribute $10\n\n\n\n      \nContribute $20\n\n\n\n      \nContribute $30\n\n\n\n      \nContribute $40\n\n\n\n      \nContribute $50\n\n\n\n      \nOr\, Contribute Another Amount
URL:https://aliveadvisorevents.com/event/daniel-imperato-2024-live-from-birmingham-alabama/
LOCATION:Online\, Online
CATEGORIES:Political
END:VEVENT
BEGIN:VEVENT
DTSTART;VALUE=DATE:20230527
DTEND;VALUE=DATE:20230528
DTSTAMP:20260424T123628
CREATED:20230527T130511Z
LAST-MODIFIED:20230627T122323Z
UID:1510-1685145600-1685231999@aliveadvisorevents.com
SUMMARY:Daniel Imperato 2024 live from Capitol of Tennessee\, Nashville
DESCRIPTION:Check Daniel Imperato’s ResumeIndependent America (written in 2008) – Free EbookShop for our ProductsPolitical Mafia and Judicial Tyranny – Free EbookFollow Daniel on Social Media\n\n\nContribute Now\n\n\n     \nContribute $10\n\n\n\n      \nContribute $20\n\n\n\n      \nContribute $30\n\n\n\n      \nContribute $40\n\n\n\n      \nContribute $50\n\n\n\n      \nOr\, Contribute Another Amount
URL:https://aliveadvisorevents.com/event/daniel-imperato-2024-live-from-capitol-of-tennessee-nashville/
LOCATION:Online\, Online
CATEGORIES:Political
END:VEVENT
BEGIN:VEVENT
DTSTART;VALUE=DATE:20230526
DTEND;VALUE=DATE:20230527
DTSTAMP:20260424T123628
CREATED:20230526T125957Z
LAST-MODIFIED:20230627T122559Z
UID:1508-1685059200-1685145599@aliveadvisorevents.com
SUMMARY:Daniel Imperato 2024 live from Pensacola Beach\, Florida
DESCRIPTION:Check Daniel Imperato’s ResumeIndependent America (written in 2008) – Free EbookShop for our ProductsPolitical Mafia and Judicial Tyranny – Free EbookFollow Daniel on Social Media\n\n\nContribute Now\n\n\n     \nContribute $10\n\n\n\n      \nContribute $20\n\n\n\n      \nContribute $30\n\n\n\n      \nContribute $40\n\n\n\n      \nContribute $50\n\n\n\n      \nOr\, Contribute Another Amount
URL:https://aliveadvisorevents.com/event/daniel-imperato-2024-live-from-pensacola-beach-florida/
LOCATION:Online\, Online
CATEGORIES:Political
END:VEVENT
BEGIN:VEVENT
DTSTART;VALUE=DATE:20230526
DTEND;VALUE=DATE:20230527
DTSTAMP:20260424T123628
CREATED:20230526T125042Z
LAST-MODIFIED:20230627T122610Z
UID:1506-1685059200-1685145599@aliveadvisorevents.com
SUMMARY:Dan the Man with a Plan
DESCRIPTION:Check Daniel Imperato’s ResumeIndependent America (written in 2008) – Free EbookShop for our ProductsPolitical Mafia and Judicial Tyranny – Free EbookFollow Daniel on Social Media\n\n\nContribute Now\n\n\n     \nContribute $10\n\n\n\n      \nContribute $20\n\n\n\n      \nContribute $30\n\n\n\n      \nContribute $40\n\n\n\n      \nContribute $50\n\n\n\n      \nOr\, Contribute Another Amount
URL:https://aliveadvisorevents.com/event/dan-the-man-with-a-plan/
LOCATION:Online\, Online
CATEGORIES:Political
END:VEVENT
BEGIN:VEVENT
DTSTART;VALUE=DATE:20230525
DTEND;VALUE=DATE:20230526
DTSTAMP:20260424T123628
CREATED:20230525T151307Z
LAST-MODIFIED:20230627T122623Z
UID:1490-1684972800-1685059199@aliveadvisorevents.com
SUMMARY:Daniel Imperato 2024 Live from Jacksonville\, Florida
DESCRIPTION:Check Daniel Imperato’s ResumeIndependent America (written in 2008) – Free EbookShop for our ProductsPolitical Mafia and Judicial Tyranny – Free EbookFollow Daniel on Social Media\n\n\nContribute Now\n\n\n     \nContribute $10\n\n\n\n      \nContribute $20\n\n\n\n      \nContribute $30\n\n\n\n      \nContribute $40\n\n\n\n      \nContribute $50\n\n\n\n      \nOr\, Contribute Another Amount
URL:https://aliveadvisorevents.com/event/daniel-imperato-2024-live-from-jacksonville-florida/
LOCATION:Online\, Online
CATEGORIES:Political
END:VEVENT
BEGIN:VEVENT
DTSTART;VALUE=DATE:20230525
DTEND;VALUE=DATE:20230526
DTSTAMP:20260424T123628
CREATED:20230525T124800Z
LAST-MODIFIED:20230627T122639Z
UID:1504-1684972800-1685059199@aliveadvisorevents.com
SUMMARY:Daniel Imperato 2024 Live from Noah's Ark Williamstown\, Kentucky
DESCRIPTION:Check Daniel Imperato’s ResumeIndependent America (written in 2008) – Free EbookShop for our ProductsPolitical Mafia and Judicial Tyranny – Free EbookFollow Daniel on Social Media\n\n\nContribute Now\n\n\n     \nContribute $10\n\n\n\n      \nContribute $20\n\n\n\n      \nContribute $30\n\n\n\n      \nContribute $40\n\n\n\n      \nContribute $50\n\n\n\n      \nOr\, Contribute Another Amount
URL:https://aliveadvisorevents.com/event/daniel-imperato-2024-live-from-noahs-ark-williamstown-kentucky/
LOCATION:Online\, Online
CATEGORIES:Political
END:VEVENT
BEGIN:VEVENT
DTSTART;VALUE=DATE:20230525
DTEND;VALUE=DATE:20230526
DTSTAMP:20260424T123628
CREATED:20230525T124111Z
LAST-MODIFIED:20230627T122738Z
UID:1502-1684972800-1685059199@aliveadvisorevents.com
SUMMARY:Daniel Imperato 2024 Live from Montgomery\, Alabama
DESCRIPTION:Check Daniel Imperato’s ResumeIndependent America (written in 2008) – Free EbookShop for our ProductsPolitical Mafia and Judicial Tyranny – Free EbookFollow Daniel on Social Media\n\n\nContribute Now\n\n\n     \nContribute $10\n\n\n\n      \nContribute $20\n\n\n\n      \nContribute $30\n\n\n\n      \nContribute $40\n\n\n\n      \nContribute $50\n\n\n\n      \nOr\, Contribute Another Amount
URL:https://aliveadvisorevents.com/event/daniel-imperato-2024-live-from-montgomery-alabama/
LOCATION:Online\, Online
CATEGORIES:Political
END:VEVENT
BEGIN:VEVENT
DTSTART;VALUE=DATE:20230525
DTEND;VALUE=DATE:20230526
DTSTAMP:20260424T123628
CREATED:20230525T123816Z
LAST-MODIFIED:20230627T122757Z
UID:1500-1684972800-1685059199@aliveadvisorevents.com
SUMMARY:Daniel Imperato 2024 Live from Pensacola\, Florida
DESCRIPTION:Check Daniel Imperato’s ResumeIndependent America (written in 2008) – Free EbookShop for our ProductsPolitical Mafia and Judicial Tyranny – Free EbookFollow Daniel on Social Media\n\n\nContribute Now\n\n\n     \nContribute $10\n\n\n\n      \nContribute $20\n\n\n\n      \nContribute $30\n\n\n\n      \nContribute $40\n\n\n\n      \nContribute $50\n\n\n\n      \nOr\, Contribute Another Amount
URL:https://aliveadvisorevents.com/event/daniel-imperato-2024-live-from-pensacola-florida/
LOCATION:Online\, Online
CATEGORIES:Political
END:VEVENT
BEGIN:VEVENT
DTSTART;VALUE=DATE:20230525
DTEND;VALUE=DATE:20230526
DTSTAMP:20260424T123628
CREATED:20230525T123405Z
LAST-MODIFIED:20230627T122809Z
UID:1496-1684972800-1685059199@aliveadvisorevents.com
SUMMARY:Daniel Imperato 2024 Live from Tallahassee\, Florida
DESCRIPTION:Check Daniel Imperato’s ResumeIndependent America (written in 2008) – Free EbookShop for our ProductsPolitical Mafia and Judicial Tyranny – Free EbookFollow Daniel on Social Media\n\n\nContribute Now\n\n\n     \nContribute $10\n\n\n\n      \nContribute $20\n\n\n\n      \nContribute $30\n\n\n\n      \nContribute $40\n\n\n\n      \nContribute $50\n\n\n\n      \nOr\, Contribute Another Amount
URL:https://aliveadvisorevents.com/event/daniel-imperato-2024-live-from-tallahassee-florida/
LOCATION:Online\, Online
CATEGORIES:Political
END:VEVENT
BEGIN:VEVENT
DTSTART;VALUE=DATE:20230525
DTEND;VALUE=DATE:20230526
DTSTAMP:20260424T123628
CREATED:20230525T075641Z
LAST-MODIFIED:20230627T123003Z
UID:1488-1684972800-1685059199@aliveadvisorevents.com
SUMMARY:Daniel Imperato "running" for President 2024
DESCRIPTION:Check Daniel Imperato’s ResumeIndependent America (written in 2008) – Free EbookShop for our ProductsPolitical Mafia and Judicial Tyranny – Free EbookFollow Daniel on Social Media\n\n\nContribute Now\n\n\n     \nContribute $10\n\n\n\n      \nContribute $20\n\n\n\n      \nContribute $30\n\n\n\n      \nContribute $40\n\n\n\n      \nContribute $50\n\n\n\n      \nOr\, Contribute Another Amount
URL:https://aliveadvisorevents.com/event/daniel-imperato-running-for-president-2024/
LOCATION:Online\, Online
CATEGORIES:Political
END:VEVENT
BEGIN:VEVENT
DTSTART;VALUE=DATE:20230519
DTEND;VALUE=DATE:20230520
DTSTAMP:20260424T123628
CREATED:20230519T093953Z
LAST-MODIFIED:20230627T123017Z
UID:1485-1684454400-1684540799@aliveadvisorevents.com
SUMMARY:Daniel Imperato 2024 Live from The Original Presidents House\, Philadelphia
DESCRIPTION:Check Daniel Imperato’s ResumeIndependent America (written in 2008) – Free EbookShop for our ProductsPolitical Mafia and Judicial Tyranny – Free EbookFollow Daniel on Social Media\n\n\nContribute Now\n\n\n     \nContribute $10\n\n\n\n      \nContribute $20\n\n\n\n      \nContribute $30\n\n\n\n      \nContribute $40\n\n\n\n      \nContribute $50\n\n\n\n      \nOr\, Contribute Another Amount
URL:https://aliveadvisorevents.com/event/daniel-imperato-2024-live-from-the-original-presidents-house-philadelphia/
LOCATION:Online\, Online
CATEGORIES:Political
END:VEVENT
BEGIN:VEVENT
DTSTART;VALUE=DATE:20230519
DTEND;VALUE=DATE:20230520
DTSTAMP:20260424T123628
CREATED:20230519T093515Z
LAST-MODIFIED:20230627T123030Z
UID:1483-1684454400-1684540799@aliveadvisorevents.com
SUMMARY:Daniel Imperato 2024 Live from Philadelphia City Hall
DESCRIPTION:Check Daniel Imperato’s ResumeIndependent America (written in 2008) – Free EbookShop for our ProductsPolitical Mafia and Judicial Tyranny – Free EbookFollow Daniel on Social Media\n\n\nContribute Now\n\n\n     \nContribute $10\n\n\n\n      \nContribute $20\n\n\n\n      \nContribute $30\n\n\n\n      \nContribute $40\n\n\n\n      \nContribute $50\n\n\n\n      \nOr\, Contribute Another Amount
URL:https://aliveadvisorevents.com/event/daniel-imperato-2024-live-from-philadelphia-city-hall/
LOCATION:Online\, Online
CATEGORIES:Political
END:VEVENT
BEGIN:VEVENT
DTSTART;VALUE=DATE:20230517
DTEND;VALUE=DATE:20230518
DTSTAMP:20260424T123628
CREATED:20230517T093243Z
LAST-MODIFIED:20230627T123044Z
UID:1481-1684281600-1684367999@aliveadvisorevents.com
SUMMARY:Daniel Imperato 2024 Live from St Paul Church\, NYC George Washington
DESCRIPTION:Check Daniel Imperato’s ResumeIndependent America (written in 2008) – Free EbookShop for our ProductsPolitical Mafia and Judicial Tyranny – Free EbookFollow Daniel on Social Media\n\n\nContribute Now\n\n\n     \nContribute $10\n\n\n\n      \nContribute $20\n\n\n\n      \nContribute $30\n\n\n\n      \nContribute $40\n\n\n\n      \nContribute $50\n\n\n\n      \nOr\, Contribute Another Amount
URL:https://aliveadvisorevents.com/event/daniel-imperato-2024-live-from-st-paul-church-nyc-george-washington/
LOCATION:Online\, Online
CATEGORIES:Political
END:VEVENT
END:VCALENDAR